BEGIN:VCALENDAR
VERSION:2.0
PRODID:-//SEPTI DUTA TRIP - ECPv6.15.14//NONSGML v1.0//EN
CALSCALE:GREGORIAN
METHOD:PUBLISH
X-WR-CALNAME:SEPTI DUTA TRIP
X-ORIGINAL-URL:https://septidutatrip.com
X-WR-CALDESC:Events for SEPTI DUTA TRIP
REFRESH-INTERVAL;VALUE=DURATION:PT1H
X-Robots-Tag:noindex
X-PUBLISHED-TTL:PT1H
BEGIN:VTIMEZONE
TZID:UTC
BEGIN:STANDARD
TZOFFSETFROM:+0000
TZOFFSETTO:+0000
TZNAME:UTC
DTSTART:20180101T000000
END:STANDARD
END:VTIMEZONE
BEGIN:VEVENT
DTSTART;TZID=UTC:20191224T080000
DTEND;TZID=UTC:20300301T170000
DTSTAMP:20260423T094511
CREATED:20140626T065827Z
LAST-MODIFIED:20251214T100018Z
UID:632-1577174400-1898614800@septidutatrip.com
SUMMARY:Bali
DESCRIPTION:Bali menawarkan keindahan alam dan budaya yang memikat\, mulai dari pantai eksotis\, pegunungan hijau\, hingga Pura yang ikonik yang sarat nilai spiritual. Setiap destinasi menghadirkan suasana unik yang menenangkan sekaligus menginspirasi. \nDidukung fasilitas wisata lengkap dan pelayanan ramah\, Bali menjadi pilihan tepat untuk liburan santai\, romantis\, maupun perjalanan bersama keluarga dan rombongan. Bali bukan sekadar tujuan wisata\, melainkan pengalaman tak terlupakan.
URL:https://septidutatrip.com/event/bali/
CATEGORIES:Celebration
ATTACH;FMTTYPE=image/jpeg:https://septidutatrip.com/wp-content/uploads/2014/06/Bali.jpeg
ORGANIZER;CN="Septi Duta Trip":MAILTO:septidutatrip@gmail.com
END:VEVENT
END:VCALENDAR